BEGIN:VCALENDAR
PRODID:-//SINGPromos.com//NONSGML v1.0//EN
VERSION:2.0
CALSCALE:GREGORIAN
METHOD:PUBLISH
X-WR-CALNAME:SINGPromos.com
X-ORIGINAL-URL:https://singpromos.com
X-WR-CALDESC:Events for SINGPromos.com
BEGIN:VEVENT
DTSTART:20120709T000000
DTEND:20120713T235900
DTSTAMP:20260420T231806
CREATED:20120709T134530
LAST-MODIFIED:20120709T134530
UID:36928@https://singpromos.com
SUMMARY:Hotels.Com Japan 101 Sale Up To 50% Off 9 - 13 Jul 2012
DESCRIPTION:Hotels.com Japan 101 hour sale is now on till 13 July 2012. Save up to 50% off on hotels at Sapporo, Osaka, Tokyo and more. For more information, visit [ https://singpromos.com/vacations/hotels-com-japan-101-sale-up-to-50-off-9-13-jul-2012-36928/ ]. 
LOCATION:
URL:https://singpromos.com/vacations/hotels-com-japan-101-sale-up-to-50-off-9-13-jul-2012-36928/
END:VEVENT
END:VCALENDAR