BEGIN:VCALENDAR
PRODID:-//SINGPromos.com//NONSGML v1.0//EN
VERSION:2.0
CALSCALE:GREGORIAN
METHOD:PUBLISH
X-WR-CALNAME:SINGPromos.com
X-ORIGINAL-URL:https://singpromos.com
X-WR-CALDESC:Events for SINGPromos.com
BEGIN:VEVENT
DTSTART:20120705T000000
DTEND:20120719T235900
DTSTAMP:20260422T082131
CREATED:20120710T161441
LAST-MODIFIED:20120710T161441
UID:37004@https://singpromos.com
SUMMARY:Emirates Singapore Air Fares Promotion 5 - 19 Jul 2012
DESCRIPTION:Enjoy award-winning cuisine, unrivalled inflight entertainment and a generous baggage allowance all for an unbeatable price. But don't delay, these special all inclusive fares are only available for a limited time.. For more information, visit [ https://singpromos.com/airlines-flights/emirates-singapore-air-fares-promotion-5-19-jul-2012-37004/ ]. 
LOCATION:
URL:https://singpromos.com/airlines-flights/emirates-singapore-air-fares-promotion-5-19-jul-2012-37004/
END:VEVENT
END:VCALENDAR