BEGIN:VCALENDAR
PRODID:-//SINGPromos.com//NONSGML v1.0//EN
VERSION:2.0
CALSCALE:GREGORIAN
METHOD:PUBLISH
X-WR-CALNAME:SINGPromos.com
X-ORIGINAL-URL:https://singpromos.com
X-WR-CALDESC:Events for SINGPromos.com
BEGIN:VEVENT
DTSTART:20120702T000000
DTEND:20120731T235900
DTSTAMP:20260422T082139
CREATED:20120710T162902
LAST-MODIFIED:20120710T162902
UID:37008@https://singpromos.com
SUMMARY:Acer Business Notebooks & Desktop PC Price List 2 - 31 Jul 2012
DESCRIPTION:Here's Acer's latest promotion price list for some of their business computing notebooks, ultrabooks, all-in-one (AIO) desktop systems and desktop PC systems.. For more information, visit [ https://singpromos.com/computers-pc/acer-business-notebooks-desktop-pc-price-list-2-31-jul-2012-37008/ ]. 
LOCATION:
URL:https://singpromos.com/computers-pc/acer-business-notebooks-desktop-pc-price-list-2-31-jul-2012-37008/
END:VEVENT
END:VCALENDAR