BEGIN:VCALENDAR
PRODID:-//SINGPromos.com//NONSGML v1.0//EN
VERSION:2.0
CALSCALE:GREGORIAN
METHOD:PUBLISH
X-WR-CALNAME:SINGPromos.com
X-ORIGINAL-URL:https://singpromos.com
X-WR-CALDESC:Events for SINGPromos.com
BEGIN:VEVENT
DTSTART:20120710T000000
DTEND:20120805T235900
DTSTAMP:20260420T050907
CREATED:20120710T174826
LAST-MODIFIED:20120718T110343
UID:37024@https://singpromos.com
SUMMARY:Adidas Factory Outlet Sale Up To 70% Off 10 Jul - 5 Aug 2012
DESCRIPTION:Check out the Adidas Factory Outlet Sale at Wing Tai Industrial Centre, from 10 July to 5 August 2012 (except Mondays) at 105 Tampines Road with up to 70% off.. For more information, visit [ https://singpromos.com/warehouse-sales/adidas-factory-outlet-sale-up-to-70-off-10-jul-5-aug-2012-37024/ ]. 
LOCATION:105 Tampines Road, 535127
URL:https://singpromos.com/warehouse-sales/adidas-factory-outlet-sale-up-to-70-off-10-jul-5-aug-2012-37024/
END:VEVENT
END:VCALENDAR