BEGIN:VCALENDAR
PRODID:-//SINGPromos.com//NONSGML v1.0//EN
VERSION:2.0
CALSCALE:GREGORIAN
METHOD:PUBLISH
X-WR-CALNAME:SINGPromos.com
X-ORIGINAL-URL:https://singpromos.com
X-WR-CALDESC:Events for SINGPromos.com
BEGIN:VEVENT
DTSTART:20120710T000000
DTEND:20120930T235900
DTSTAMP:20260420T231748
CREATED:20120711T000205
LAST-MODIFIED:20120711T000801
UID:37035@https://singpromos.com
SUMMARY:Zuji 12% Off Discount DBS/POSB Mastercard Cardmembers 10 Jul - 30 Sep 2012
DESCRIPTION:Enjoy an additional 12% discount off all hotel bookings with your DBS or POSB Mastercard. Learn how to enjoy this promotion before it ends soon. For more information, visit [ https://singpromos.com/vacations/zuji-12-off-discount-dbsposb-mastercard-cardmembers-10-jul-30-sep-2012-37035/ ]. 
LOCATION:
URL:https://singpromos.com/vacations/zuji-12-off-discount-dbsposb-mastercard-cardmembers-10-jul-30-sep-2012-37035/
END:VEVENT
END:VCALENDAR