BEGIN:VCALENDAR
PRODID:-//SINGPromos.com//NONSGML v1.0//EN
VERSION:2.0
CALSCALE:GREGORIAN
METHOD:PUBLISH
X-WR-CALNAME:SINGPromos.com
X-ORIGINAL-URL:https://singpromos.com
X-WR-CALDESC:Events for SINGPromos.com
BEGIN:VEVENT
DTSTART:20120709T000000
DTEND:20120723T235900
DTSTAMP:20260420T231748
CREATED:20120711T141050
LAST-MODIFIED:20120711T144339
UID:37059@https://singpromos.com
SUMMARY:Expedia Hotels 5% Off Coupon Code 9 - 23 Jul 2012
DESCRIPTION:Expedia has released a special coupon code for 5% OFF Special Rate hotels till 23 July 2012 with the below coupon code at www.expedia.com.sg. Terms and conditions apply.. For more information, visit [ https://singpromos.com/vacations/expedia-hotels-5-off-coupon-code-9-23-jul-2012-37059/ ]. 
LOCATION:
URL:https://singpromos.com/vacations/expedia-hotels-5-off-coupon-code-9-23-jul-2012-37059/
END:VEVENT
END:VCALENDAR