BEGIN:VCALENDAR
PRODID:-//SINGPromos.com//NONSGML v1.0//EN
VERSION:2.0
CALSCALE:GREGORIAN
METHOD:PUBLISH
X-WR-CALNAME:SINGPromos.com
X-ORIGINAL-URL:https://singpromos.com
X-WR-CALDESC:Events for SINGPromos.com
BEGIN:VEVENT
DTSTART:20120713T000000
DTEND:20120715T235900
DTSTAMP:20260424T000131
CREATED:20120712T162841
LAST-MODIFIED:20120712T162841
UID:37189@https://singpromos.com
SUMMARY:Mayer 7% GST Rebate Promotion 13 - 15 Jul 2012
DESCRIPTION:Mayer is aving a 7% GST Rebate Hari Raya promotion from 13 July to 15 July 2012. Available at their outlets at Great World City, Plaza Singapura and more. For more information, visit [ https://singpromos.com/home-appliances/mayer-7-gst-rebate-promotion-13-15-jul-2012-37189/ ]. 
LOCATION:
URL:https://singpromos.com/home-appliances/mayer-7-gst-rebate-promotion-13-15-jul-2012-37189/
END:VEVENT
END:VCALENDAR