BEGIN:VCALENDAR
PRODID:-//SINGPromos.com//NONSGML v1.0//EN
VERSION:2.0
CALSCALE:GREGORIAN
METHOD:PUBLISH
X-WR-CALNAME:SINGPromos.com
X-ORIGINAL-URL:https://singpromos.com
X-WR-CALDESC:Events for SINGPromos.com
BEGIN:VEVENT
DTSTART:20120713T000000
DTEND:20120716T235900
DTSTAMP:20260422T075640
CREATED:20120713T235154
LAST-MODIFIED:20120713T235525
UID:37359@https://singpromos.com
SUMMARY:Very Wooonderland Closing Down Sale Up To 80% Off @ ION Orchard 13 - 16 Jul 2012
DESCRIPTION:Very Wooonderland is having a closing down storewide sale of up to 80% off as it is moving out of ION Orchard. For more information, visit [ https://singpromos.com/warehouse-sales/very-wooonderland-closing-down-sale-up-to-80-off-ion-orchard-13-16-jul-2012-37359/ ]. 
LOCATION:
URL:https://singpromos.com/warehouse-sales/very-wooonderland-closing-down-sale-up-to-80-off-ion-orchard-13-16-jul-2012-37359/
END:VEVENT
END:VCALENDAR