BEGIN:VCALENDAR
PRODID:-//SINGPromos.com//NONSGML v1.0//EN
VERSION:2.0
CALSCALE:GREGORIAN
METHOD:PUBLISH
X-WR-CALNAME:SINGPromos.com
X-ORIGINAL-URL:https://singpromos.com
X-WR-CALDESC:Events for SINGPromos.com
BEGIN:VEVENT
DTSTART:20120714T000000
DTEND:20120720T235900
DTSTAMP:20260420T045100
CREATED:20120714T193645
LAST-MODIFIED:20120714T193645
UID:37436@https://singpromos.com
SUMMARY:Courts Mega Raya Sale Promotion Offers 14 - 20 Jul 2012
DESCRIPTION:Courts continues their Mega Raya Sale. Get mega rewards with Courts flexi plans with everyday $15,000 cashback, free grocery vouchers with purchase of selected appliances and minimum spend and more. . For more information, visit [ https://singpromos.com/computers-pc/courts-mega-raya-sale-promotion-offers-14-20-jul-2012-37436/ ]. 
LOCATION:
URL:https://singpromos.com/computers-pc/courts-mega-raya-sale-promotion-offers-14-20-jul-2012-37436/
END:VEVENT
END:VCALENDAR