BEGIN:VCALENDAR
PRODID:-//SINGPromos.com//NONSGML v1.0//EN
VERSION:2.0
CALSCALE:GREGORIAN
METHOD:PUBLISH
X-WR-CALNAME:SINGPromos.com
X-ORIGINAL-URL:https://singpromos.com
X-WR-CALDESC:Events for SINGPromos.com
BEGIN:VEVENT
DTSTART:20120716T000000
DTEND:20120722T235900
DTSTAMP:20260422T210913
CREATED:20120715T105835
LAST-MODIFIED:20120715T105835
UID:37468@https://singpromos.com
SUMMARY:Air Asia World's Best Ever Air Fares Sale 16 - 22 Jul 2012
DESCRIPTION:Air Asia is having an sale on air fares to Bali, Bangkok, Penang, Kota Kinabalu & more from as low as SGD 36 (all-in-fare) or Incheon, Beijing, Tokyo, Melbourne and many more exciting destinations from as low as SGD 179 (all-in-fare). For more information, visit [ https://singpromos.com/airlines-flights/air-asia-worlds-best-ever-air-fares-sale-16-22-jul-2012-37468/ ]. 
LOCATION:
URL:https://singpromos.com/airlines-flights/air-asia-worlds-best-ever-air-fares-sale-16-22-jul-2012-37468/
END:VEVENT
END:VCALENDAR