BEGIN:VCALENDAR
PRODID:-//SINGPromos.com//NONSGML v1.0//EN
VERSION:2.0
CALSCALE:GREGORIAN
METHOD:PUBLISH
X-WR-CALNAME:SINGPromos.com
X-ORIGINAL-URL:https://singpromos.com
X-WR-CALDESC:Events for SINGPromos.com
BEGIN:VEVENT
DTSTART:20120717T000000
DTEND:20120722T235900
DTSTAMP:20260420T231753
CREATED:20120717T130252
LAST-MODIFIED:20120717T130403
UID:37599@https://singpromos.com
SUMMARY:Zuji Singapore 10% OFF Hotels Coupon Code 17 - 22 Jul 2012
DESCRIPTION:Enjoy an additional 10% off all hotels from 17 July to 22 July 2012 at www.zuji.com.sg with this coupon code. Minimum $300 spend required. Terms and conditions apply.. For more information, visit [ https://singpromos.com/vacations/zuji-singapore-10-off-hotels-coupon-code-17-22-jul-2012-37599/ ]. 
LOCATION:
URL:https://singpromos.com/vacations/zuji-singapore-10-off-hotels-coupon-code-17-22-jul-2012-37599/
END:VEVENT
END:VCALENDAR