BEGIN:VCALENDAR
PRODID:-//SINGPromos.com//NONSGML v1.0//EN
VERSION:2.0
CALSCALE:GREGORIAN
METHOD:PUBLISH
X-WR-CALNAME:SINGPromos.com
X-ORIGINAL-URL:https://singpromos.com
X-WR-CALDESC:Events for SINGPromos.com
BEGIN:VEVENT
DTSTART:20120719T000000
DTEND:20120729T235900
DTSTAMP:20260424T032833
CREATED:20120719T133946
LAST-MODIFIED:20120719T133946
UID:37736@https://singpromos.com
SUMMARY:John Little Health & Beauty Fair Up To 20% Off 19 - 29 Jul 2012
DESCRIPTION:John Little is having a Health & Beauty Fair from 19 July to 29 July 2012 with up to 20% off and an additional 20% off on cosmetics, health supplements, toiletries and fragrances.. For more information, visit [ https://singpromos.com/beauty/john-little-health-beauty-fair-up-to-20-off-19-29-jul-2012-37736/ ]. 
LOCATION:
URL:https://singpromos.com/beauty/john-little-health-beauty-fair-up-to-20-off-19-29-jul-2012-37736/
END:VEVENT
END:VCALENDAR