BEGIN:VCALENDAR
PRODID:-//SINGPromos.com//NONSGML v1.0//EN
VERSION:2.0
CALSCALE:GREGORIAN
METHOD:PUBLISH
X-WR-CALNAME:SINGPromos.com
X-ORIGINAL-URL:https://singpromos.com
X-WR-CALDESC:Events for SINGPromos.com
BEGIN:VEVENT
DTSTART:20120720T000000
DTEND:20120726T235900
DTSTAMP:20260422T082152
CREATED:20120720T150455
LAST-MODIFIED:20120720T150455
UID:37862@https://singpromos.com
SUMMARY:6Range Sony Smartphones No Contract Price List Offers 20 Jul 2012
DESCRIPTION:Here is the latest no contract offers from Sony for some of their smartphones. Get a FREE limited edition "The Amazing Spider-Man Memorabilia" up for grabs, with purchase of any Xperia NXT series smartphones till 31 July 2012.. For more information, visit [ https://singpromos.com/mobile-phones/6range-sony-smartphones-no-contract-price-list-offers-20-jul-2012-37862/ ]. 
LOCATION:
URL:https://singpromos.com/mobile-phones/6range-sony-smartphones-no-contract-price-list-offers-20-jul-2012-37862/
END:VEVENT
END:VCALENDAR