BEGIN:VCALENDAR
PRODID:-//SINGPromos.com//NONSGML v1.0//EN
VERSION:2.0
CALSCALE:GREGORIAN
METHOD:PUBLISH
X-WR-CALNAME:SINGPromos.com
X-ORIGINAL-URL:https://singpromos.com
X-WR-CALDESC:Events for SINGPromos.com
BEGIN:VEVENT
DTSTART:20120728T000000
DTEND:20120728T235900
DTSTAMP:20260422T195455
CREATED:20120720T224854
LAST-MODIFIED:20120725T020831
UID:37905@https://singpromos.com
SUMMARY:Marble Slab Creamery FREE Scoop Day @ Bugis+ 28 Jul 2012
DESCRIPTION:Marble Slab Creamery is giving away FREE scoops on 28 July 2012 at their Bugis+ outlet from 12pm to 5pm only. Not valid with other offers.. For more information, visit [ https://singpromos.com/dining-restaurants-food/marble-slab-creamery-free-scoop-day-bugis-28-jul-2012-37905/ ]. 
LOCATION:
URL:https://singpromos.com/dining-restaurants-food/marble-slab-creamery-free-scoop-day-bugis-28-jul-2012-37905/
END:VEVENT
END:VCALENDAR