BEGIN:VCALENDAR
PRODID:-//SINGPromos.com//NONSGML v1.0//EN
VERSION:2.0
CALSCALE:GREGORIAN
METHOD:PUBLISH
X-WR-CALNAME:SINGPromos.com
X-ORIGINAL-URL:https://singpromos.com
X-WR-CALDESC:Events for SINGPromos.com
BEGIN:VEVENT
DTSTART:20120721T000000
DTEND:20120727T235900
DTSTAMP:20260424T012016
CREATED:20120721T135616
LAST-MODIFIED:20120721T135616
UID:37969@https://singpromos.com
SUMMARY:Singtel Smartphones, Tablets, Home/Mobile Broadband & Mio TV Offers 21 - 27 Jul 2012
DESCRIPTION:Here is Singtel's latest mobile phones, tablets and broadband promotions and special offers for this week, presumably valid till 27 July 2012. For more information, visit [ https://singpromos.com/telecoms/singtel-smartphones-tablets-homemobile-broadband-mio-tv-offers-21-27-jul-2012-37969/ ]. 
LOCATION:
URL:https://singpromos.com/telecoms/singtel-smartphones-tablets-homemobile-broadband-mio-tv-offers-21-27-jul-2012-37969/
END:VEVENT
END:VCALENDAR