BEGIN:VCALENDAR
PRODID:-//SINGPromos.com//NONSGML v1.0//EN
VERSION:2.0
CALSCALE:GREGORIAN
METHOD:PUBLISH
X-WR-CALNAME:SINGPromos.com
X-ORIGINAL-URL:https://singpromos.com
X-WR-CALDESC:Events for SINGPromos.com
BEGIN:VEVENT
DTSTART:20120721T000000
DTEND:20120819T235900
DTSTAMP:20260420T172702
CREATED:20120724T005140
LAST-MODIFIED:20120724T005140
UID:38149@https://singpromos.com
SUMMARY:Breeks Singapore $19.90 Ramadan Sets Promotion 21 Jul - 19 Aug 2012
DESCRIPTION:Here's one more reason to dine in at Breeks this Ramadan season! Everyday starting from 21 July, 630pm onwards, enjoy Breeks' special Ramadan sets at only $19.90++ per set.. For more information, visit [ https://singpromos.com/dining-restaurants-food/breeks-singapore-19-90-ramadan-sets-promotion-21-jul-19-aug-2012-38149/ ]. 
LOCATION:
URL:https://singpromos.com/dining-restaurants-food/breeks-singapore-19-90-ramadan-sets-promotion-21-jul-19-aug-2012-38149/
END:VEVENT
END:VCALENDAR