BEGIN:VCALENDAR
PRODID:-//SINGPromos.com//NONSGML v1.0//EN
VERSION:2.0
CALSCALE:GREGORIAN
METHOD:PUBLISH
X-WR-CALNAME:SINGPromos.com
X-ORIGINAL-URL:https://singpromos.com
X-WR-CALDESC:Events for SINGPromos.com
BEGIN:VEVENT
DTSTART:20120729T000000
DTEND:20120729T235900
DTSTAMP:20260422T182147
CREATED:20120725T014913
LAST-MODIFIED:20120725T182250
UID:38229@https://singpromos.com
SUMMARY:Marble Slab Creamery $1 Scoops Promotion @ JCube 29 Jul 2012
DESCRIPTION:Marble Slab Creamery is giving away $1 scoops on 29 July 2012 at their newest outlet at JCube from 12pm to 5pm only. There will also be FREE goodie bags, fun and lots of ice cream. For more information, visit [ https://singpromos.com/dining-restaurants-food/marble-slab-creamery-1-scoops-promotion-jcube-29-jul-2012-38229/ ]. 
LOCATION:
URL:https://singpromos.com/dining-restaurants-food/marble-slab-creamery-1-scoops-promotion-jcube-29-jul-2012-38229/
END:VEVENT
END:VCALENDAR