BEGIN:VCALENDAR
PRODID:-//SINGPromos.com//NONSGML v1.0//EN
VERSION:2.0
CALSCALE:GREGORIAN
METHOD:PUBLISH
X-WR-CALNAME:SINGPromos.com
X-ORIGINAL-URL:https://singpromos.com
X-WR-CALDESC:Events for SINGPromos.com
BEGIN:VEVENT
DTSTART:20120803T000000
DTEND:20120831T235900
DTSTAMP:20260422T204203
CREATED:20120801T162630
LAST-MODIFIED:20120801T162630
UID:38871@https://singpromos.com
SUMMARY:Manhattan Fish Market 1 For 1 Promotion @ United Square Mall 3 - 31 Aug 2012
DESCRIPTION:Manhattan Fish Market is celebrating their 13th store opening at United Square Mall with a 1 for 1 Fin-tastic Combo from 3 August to 31 August 2012. For more information, visit [ https://singpromos.com/dining-restaurants-food/manhattan-fish-market-1-for-1-promotion-united-square-mall-3-31-aug-2012-38871/ ]. 
LOCATION:
URL:https://singpromos.com/dining-restaurants-food/manhattan-fish-market-1-for-1-promotion-united-square-mall-3-31-aug-2012-38871/
END:VEVENT
END:VCALENDAR