BEGIN:VCALENDAR
PRODID:-//SINGPromos.com//NONSGML v1.0//EN
VERSION:2.0
CALSCALE:GREGORIAN
METHOD:PUBLISH
X-WR-CALNAME:SINGPromos.com
X-ORIGINAL-URL:https://singpromos.com
X-WR-CALDESC:Events for SINGPromos.com
BEGIN:VEVENT
DTSTART:20120802T000000
DTEND:20120826T235900
DTSTAMP:20260420T032314
CREATED:20120802T235329
LAST-MODIFIED:20120802T235329
UID:39069@https://singpromos.com
SUMMARY:Royal Sporting House / Stadium / Sports Station 20% Off Royal Blazing Deals 2 - 26 Aug 2012
DESCRIPTION:Celebrate the Nation's birthday month with a bang at Royal Sporting House/Stadium/Sports Station stores from now till 26 August 2012. Enjoy up to 20% off on their ROYAL BLAZING DEALS, when you purchase two items or more.. For more information, visit [ https://singpromos.com/sports/royal-sporting-house-stadium-sports-station-20-off-royal-blazing-deals-2-26-aug-2012-39069/ ]. 
LOCATION:
URL:https://singpromos.com/sports/royal-sporting-house-stadium-sports-station-20-off-royal-blazing-deals-2-26-aug-2012-39069/
END:VEVENT
END:VCALENDAR