BEGIN:VCALENDAR
PRODID:-//SINGPromos.com//NONSGML v1.0//EN
VERSION:2.0
CALSCALE:GREGORIAN
METHOD:PUBLISH
X-WR-CALNAME:SINGPromos.com
X-ORIGINAL-URL:https://singpromos.com
X-WR-CALDESC:Events for SINGPromos.com
BEGIN:VEVENT
DTSTART:20120731T000000
DTEND:20120806T235900
DTSTAMP:20260420T231908
CREATED:20120803T015049
LAST-MODIFIED:20120803T015114
UID:39086@https://singpromos.com
SUMMARY:Zuji Singapore 15% OFF Hotels Coupon Code 31 Jul - 6 Aug 2012
DESCRIPTION:Enjoy an additional 15% OFF Singapore, KL, Genting, Seoul, Hong Kong, Tokyo, Gold Coast, Orlando and Los Angeles hotels from 31 Jul - 6 Aug 2012 with this coupon code.. For more information, visit [ https://singpromos.com/vacations/zuji-singapore-15-off-hotels-coupon-code-31-jul-6-aug-2012-39086/ ]. 
LOCATION:
URL:https://singpromos.com/vacations/zuji-singapore-15-off-hotels-coupon-code-31-jul-6-aug-2012-39086/
END:VEVENT
END:VCALENDAR