BEGIN:VCALENDAR
PRODID:-//SINGPromos.com//NONSGML v1.0//EN
VERSION:2.0
CALSCALE:GREGORIAN
METHOD:PUBLISH
X-WR-CALNAME:SINGPromos.com
X-ORIGINAL-URL:https://singpromos.com
X-WR-CALDESC:Events for SINGPromos.com
BEGIN:VEVENT
DTSTART:20120803T000000
DTEND:20120822T235900
DTSTAMP:20260424T024315
CREATED:20120804T233810
LAST-MODIFIED:20120804T233854
UID:39365@https://singpromos.com
SUMMARY:EpiCentre Apple Notebooks, iPad & iPhone Promotion Offers 3 - 22 Aug 2012
DESCRIPTION:EpiCentre has released their latest promotion for Apple notebooks, tablets and smartphones, valid till 22 August 2012. Enjoy free upgrades and gifts when you purchase selected items. For more information, visit [ https://singpromos.com/computers-pc/epicentre-apple-notebooks-ipad-iphone-promotion-offers-3-22-aug-2012-39365/ ]. 
LOCATION:
URL:https://singpromos.com/computers-pc/epicentre-apple-notebooks-ipad-iphone-promotion-offers-3-22-aug-2012-39365/
END:VEVENT
END:VCALENDAR