BEGIN:VCALENDAR
PRODID:-//SINGPromos.com//NONSGML v1.0//EN
VERSION:2.0
CALSCALE:GREGORIAN
METHOD:PUBLISH
X-WR-CALNAME:SINGPromos.com
X-ORIGINAL-URL:https://singpromos.com
X-WR-CALDESC:Events for SINGPromos.com
BEGIN:VEVENT
DTSTART:20120801T000000
DTEND:20120831T235900
DTSTAMP:20260419T233302
CREATED:20120806T012650
LAST-MODIFIED:20120806T012650
UID:39509@https://singpromos.com
SUMMARY:Hong Kong Sheng Kee Dessert 47% Off Two Items 1 - 31 Aug 2012
DESCRIPTION:In celebration of Singapore's 47th Birthday, Hong Kong Sheng Kee Dessert is offering 47% the usual price of two items from 1 August to 31 August 2012. For more information, visit [ https://singpromos.com/dining-restaurants-food/hong-kong-sheng-kee-dessert-47-off-two-items-1-31-aug-2012-39509/ ]. 
LOCATION:
URL:https://singpromos.com/dining-restaurants-food/hong-kong-sheng-kee-dessert-47-off-two-items-1-31-aug-2012-39509/
END:VEVENT
END:VCALENDAR