BEGIN:VCALENDAR
PRODID:-//SINGPromos.com//NONSGML v1.0//EN
VERSION:2.0
CALSCALE:GREGORIAN
METHOD:PUBLISH
X-WR-CALNAME:SINGPromos.com
X-ORIGINAL-URL:https://singpromos.com
X-WR-CALDESC:Events for SINGPromos.com
BEGIN:VEVENT
DTSTART:20120807T000000
DTEND:20120819T235900
DTSTAMP:20260420T013815
CREATED:20120806T212112
LAST-MODIFIED:20120806T212112
UID:39579@https://singpromos.com
SUMMARY:Wing Tai Karen Millen, Warehouse, MaxStudio.Com & Wallis Sale Up To 80% Off 7 - 19 Aug 2012
DESCRIPTION:Wing Tai will be having a Dressing Salon Sale up to 80% off from 7 August to 19 August at Wing Tai Industrial Centre, 105 Tampines Road, 12pm to 7pm. For more information, visit [ https://singpromos.com/warehouse-sales/wing-tai-karen-millen-warehouse-maxstudio-com-wallis-sale-up-to-80-off-7-19-aug-2012-39579/ ]. 
LOCATION:105 Tampines Road
URL:https://singpromos.com/warehouse-sales/wing-tai-karen-millen-warehouse-maxstudio-com-wallis-sale-up-to-80-off-7-19-aug-2012-39579/
END:VEVENT
END:VCALENDAR