BEGIN:VCALENDAR
PRODID:-//SINGPromos.com//NONSGML v1.0//EN
VERSION:2.0
CALSCALE:GREGORIAN
METHOD:PUBLISH
X-WR-CALNAME:SINGPromos.com
X-ORIGINAL-URL:https://singpromos.com
X-WR-CALDESC:Events for SINGPromos.com
BEGIN:VEVENT
DTSTART:20120808T000000
DTEND:20120812T235900
DTSTAMP:20260420T013752
CREATED:20120808T010304
LAST-MODIFIED:20120808T010304
UID:39651@https://singpromos.com
SUMMARY:Bcbgmaxazria, Karen Millen, Maxstudio.com, Wallis & Warehouse End of Season Sale 8 Aug 2012
DESCRIPTION:Bcbgmaxazria, Karen Millen, Maxstudio.com, Wallis and Warehouse are having their end of season sale with up to 70% off till 12 August 2012.. For more information, visit [ https://singpromos.com/fashion-accessories/bcbgmaxazria-karen-millen-maxstudio-com-wallis-warehouse-end-of-season-sale-8-aug-2012-39651/ ]. 
LOCATION:
URL:https://singpromos.com/fashion-accessories/bcbgmaxazria-karen-millen-maxstudio-com-wallis-warehouse-end-of-season-sale-8-aug-2012-39651/
END:VEVENT
END:VCALENDAR