BEGIN:VCALENDAR
PRODID:-//SINGPromos.com//NONSGML v1.0//EN
VERSION:2.0
CALSCALE:GREGORIAN
METHOD:PUBLISH
X-WR-CALNAME:SINGPromos.com
X-ORIGINAL-URL:https://singpromos.com
X-WR-CALDESC:Events for SINGPromos.com
BEGIN:VEVENT
DTSTART:20120811T000000
DTEND:20120812T235900
DTSTAMP:20260422T082107
CREATED:20120809T012046
LAST-MODIFIED:20120809T012046
UID:39736@https://singpromos.com
SUMMARY:SA Tours Sensational Mega Travel Sale @ Suntec 11 - 12 Aug 2012
DESCRIPTION:SA Tours will be having a Sensational Mega Travel Sale event at Suntec Entertainment Centre Atrium from 11 August to 12 August 2012, 10am to 8pm. For more information, visit [ https://singpromos.com/vacations/sa-tours-sensational-mega-travel-sale-suntec-11-12-aug-2012-39736/ ]. 
LOCATION:
URL:https://singpromos.com/vacations/sa-tours-sensational-mega-travel-sale-suntec-11-12-aug-2012-39736/
END:VEVENT
END:VCALENDAR