BEGIN:VCALENDAR
PRODID:-//SINGPromos.com//NONSGML v1.0//EN
VERSION:2.0
CALSCALE:GREGORIAN
METHOD:PUBLISH
X-WR-CALNAME:SINGPromos.com
X-ORIGINAL-URL:https://singpromos.com
X-WR-CALDESC:Events for SINGPromos.com
BEGIN:VEVENT
DTSTART:20120811T000000
DTEND:20120817T235900
DTSTAMP:20260422T045657
CREATED:20120811T202644
LAST-MODIFIED:20120811T202644
UID:40043@https://singpromos.com
SUMMARY:Courts Nationwide Discounted Price Offer Promotion 11 - 17 Aug 2012
DESCRIPTION:Courts continues their Nationwide Discounted Prices promotion with many items going at $4.70, $47 and $470. Enjoy up to $18,000 guaranteed Triple Mega Cashback with Courts Flexiplans. For more information, visit [ https://singpromos.com/department-stores/courts-nationwide-discounted-price-offer-promotion-11-17-aug-2012-40043/ ]. 
LOCATION:
URL:https://singpromos.com/department-stores/courts-nationwide-discounted-price-offer-promotion-11-17-aug-2012-40043/
END:VEVENT
END:VCALENDAR