BEGIN:VCALENDAR
PRODID:-//SINGPromos.com//NONSGML v1.0//EN
VERSION:2.0
CALSCALE:GREGORIAN
METHOD:PUBLISH
X-WR-CALNAME:SINGPromos.com
X-ORIGINAL-URL:https://singpromos.com
X-WR-CALDESC:Events for SINGPromos.com
BEGIN:VEVENT
DTSTART:20120813T000000
DTEND:20120819T235900
DTSTAMP:20260420T045005
CREATED:20120815T135700
LAST-MODIFIED:20120815T135700
UID:40273@https://singpromos.com
SUMMARY:Carlo Rino End of Season Further Reductions Sale Up To 70% Off @ Northpoint 13 - 19 Aug 2012
DESCRIPTION:Carlo Rino is having an end of season sale at Northpoint atrium till 19 August 2012. The sale features further reductions with items going at up to 70% Off. For more information, visit [ https://singpromos.com/fashion-accessories/carlo-rino-end-of-season-further-reductions-sale-up-to-70-off-northpoint-13-19-aug-2012-40273/ ]. 
LOCATION:
URL:https://singpromos.com/fashion-accessories/carlo-rino-end-of-season-further-reductions-sale-up-to-70-off-northpoint-13-19-aug-2012-40273/
END:VEVENT
END:VCALENDAR