BEGIN:VCALENDAR
PRODID:-//SINGPromos.com//NONSGML v1.0//EN
VERSION:2.0
CALSCALE:GREGORIAN
METHOD:PUBLISH
X-WR-CALNAME:SINGPromos.com
X-ORIGINAL-URL:https://singpromos.com
X-WR-CALDESC:Events for SINGPromos.com
BEGIN:VEVENT
DTSTART:20120815T000000
DTEND:20120831T235900
DTSTAMP:20260420T045000
CREATED:20120815T202804
LAST-MODIFIED:20120815T202804
UID:40302@https://singpromos.com
SUMMARY:Qatar Airways DBS/POSB Special Air Fares Promotion 15 - 31 Aug 2012
DESCRIPTION:Qatar Airways is offering DBS/POSB Credit & Debit Cardmembers exclusive air fares till 31 August 2012 for travel from 1 September to 31 December 2012. . For more information, visit [ https://singpromos.com/airlines-flights/qatar-airways-dbsposb-special-air-fares-promotion-15-31-aug-2012-40302/ ]. 
LOCATION:
URL:https://singpromos.com/airlines-flights/qatar-airways-dbsposb-special-air-fares-promotion-15-31-aug-2012-40302/
END:VEVENT
END:VCALENDAR