BEGIN:VCALENDAR
PRODID:-//SINGPromos.com//NONSGML v1.0//EN
VERSION:2.0
CALSCALE:GREGORIAN
METHOD:PUBLISH
X-WR-CALNAME:SINGPromos.com
X-ORIGINAL-URL:https://singpromos.com
X-WR-CALDESC:Events for SINGPromos.com
BEGIN:VEVENT
DTSTART:20120816T000000
DTEND:20120822T235900
DTSTAMP:20260420T061839
CREATED:20120816T155643
LAST-MODIFIED:20120816T155643
UID:40365@https://singpromos.com
SUMMARY:Harvey Norman Tips To Maintain Your Kitchen Appliances, Offers & Philips Hari Raya Offers 16 - 22 Aug 2012
DESCRIPTION:Here are eight tips on caring for hobs, hoods and ovens from Harvey Norman with some Hari Raya special offers on combo packages. . For more information, visit [ https://singpromos.com/home-appliances/harvey-norman-tips-to-maintain-your-kitchen-appliances-offers-philips-hari-raya-offers-16-22-aug-2012-40365/ ]. 
LOCATION:
URL:https://singpromos.com/home-appliances/harvey-norman-tips-to-maintain-your-kitchen-appliances-offers-philips-hari-raya-offers-16-22-aug-2012-40365/
END:VEVENT
END:VCALENDAR