BEGIN:VCALENDAR
PRODID:-//SINGPromos.com//NONSGML v1.0//EN
VERSION:2.0
CALSCALE:GREGORIAN
METHOD:PUBLISH
X-WR-CALNAME:SINGPromos.com
X-ORIGINAL-URL:https://singpromos.com
X-WR-CALDESC:Events for SINGPromos.com
BEGIN:VEVENT
DTSTART:20120818T000000
DTEND:20120819T235900
DTSTAMP:20260422T212513
CREATED:20120816T190616
LAST-MODIFIED:20120817T233102
UID:40444@https://singpromos.com
SUMMARY:Singapore Food Industries Warehouse Sale Up To 30% Off 18 - 19 Aug 2012
DESCRIPTION:Singapore Food Industries (SFI - A SATS Group Company) is having a warehouse sale from 18 August to 19 August 2012, 930am to 130pm at 234 Panadan Loop with up to 30% off. For more information, visit [ https://singpromos.com/warehouse-sales/singapore-food-industries-warehouse-sale-up-to-30-off-18-19-aug-2012-40444/ ]. 
LOCATION:234 Pandan Loop
URL:https://singpromos.com/warehouse-sales/singapore-food-industries-warehouse-sale-up-to-30-off-18-19-aug-2012-40444/
END:VEVENT
END:VCALENDAR