BEGIN:VCALENDAR
PRODID:-//SINGPromos.com//NONSGML v1.0//EN
VERSION:2.0
CALSCALE:GREGORIAN
METHOD:PUBLISH
X-WR-CALNAME:SINGPromos.com
X-ORIGINAL-URL:https://singpromos.com
X-WR-CALDESC:Events for SINGPromos.com
BEGIN:VEVENT
DTSTART:20120817T000000
DTEND:20120817T235900
DTSTAMP:20260424T034551
CREATED:20120817T032516
LAST-MODIFIED:20120817T032516
UID:40492@https://singpromos.com
SUMMARY:Courts One Day Only Weekend Sale Deals More Than 40% Off 17 Aug 2012
DESCRIPTION:Courts is having a 4 Days Long Weekend Sale with at least 40% off electrical, IT and furniture items. Check out these deals, valid only on 17 August 2012 with extended shopping hours till 11pm. For more information, visit [ https://singpromos.com/department-stores/courts-one-day-only-weekend-sale-deals-more-than-40-off-17-aug-2012-40492/ ]. 
LOCATION:
URL:https://singpromos.com/department-stores/courts-one-day-only-weekend-sale-deals-more-than-40-off-17-aug-2012-40492/
END:VEVENT
END:VCALENDAR