BEGIN:VCALENDAR
PRODID:-//SINGPromos.com//NONSGML v1.0//EN
VERSION:2.0
CALSCALE:GREGORIAN
METHOD:PUBLISH
X-WR-CALNAME:SINGPromos.com
X-ORIGINAL-URL:https://singpromos.com
X-WR-CALDESC:Events for SINGPromos.com
BEGIN:VEVENT
DTSTART:20120823T000000
DTEND:20120831T235900
DTSTAMP:20260422T082134
CREATED:20120823T125901
LAST-MODIFIED:20130205T222849
UID:40526@https://singpromos.com
SUMMARY:Adobe Singapore 15% Off Photoshop Lightroom 4 Coupon Code 23 - 31 Aug 2012
DESCRIPTION:Get 15% off Adobe Photoshop Lightroom 4 software with the Adobe Singapore Store coupon code below. For more information, visit [ https://singpromos.com/computers-pc/adobe-singapore-15-off-photoshop-lightroom-4-coupon-code-23-31-aug-2012-40526/ ]. 
LOCATION:
URL:https://singpromos.com/computers-pc/adobe-singapore-15-off-photoshop-lightroom-4-coupon-code-23-31-aug-2012-40526/
END:VEVENT
END:VCALENDAR