BEGIN:VCALENDAR
PRODID:-//SINGPromos.com//NONSGML v1.0//EN
VERSION:2.0
CALSCALE:GREGORIAN
METHOD:PUBLISH
X-WR-CALNAME:SINGPromos.com
X-ORIGINAL-URL:https://singpromos.com
X-WR-CALDESC:Events for SINGPromos.com
BEGIN:VEVENT
DTSTART:20120818T000000
DTEND:20120824T235900
DTSTAMP:20260420T183612
CREATED:20120818T002223
LAST-MODIFIED:20120818T002223
UID:40609@https://singpromos.com
SUMMARY:Harvey Norman Digital Cameras, Furniture, Electronics & Appliances Offers 18 - 24 Aug 2012
DESCRIPTION:Here's more Real Deals from Harvey Norman – save heaps with real deals. Enjoy one month instalment waiver with UOB 36 months 0% instalment plan. . For more information, visit [ https://singpromos.com/department-stores/harvey-norman-digital-cameras-furniture-electronics-appliances-offers-18-24-aug-2012-40609/ ]. 
LOCATION:
URL:https://singpromos.com/department-stores/harvey-norman-digital-cameras-furniture-electronics-appliances-offers-18-24-aug-2012-40609/
END:VEVENT
END:VCALENDAR