BEGIN:VCALENDAR
PRODID:-//SINGPromos.com//NONSGML v1.0//EN
VERSION:2.0
CALSCALE:GREGORIAN
METHOD:PUBLISH
X-WR-CALNAME:SINGPromos.com
X-ORIGINAL-URL:https://singpromos.com
X-WR-CALDESC:Events for SINGPromos.com
BEGIN:VEVENT
DTSTART:20120825T000000
DTEND:20120826T235900
DTSTAMP:20260422T045631
CREATED:20120826T004800
LAST-MODIFIED:20120826T004800
UID:41060@https://singpromos.com
SUMMARY:Courts Raya Overstocks Clearance Sale 25 - 26 Aug 2012
DESCRIPTION:Courts is having a Courts Raya Overstocks sale for 2 days only with over $28 million worth of stocks to clear. It is also have an up to 70% off Pre-Renovation sale.. For more information, visit [ https://singpromos.com/department-stores/courts-raya-overstocks-clearance-sale-25-26-aug-2012-41060/ ]. 
LOCATION:
URL:https://singpromos.com/department-stores/courts-raya-overstocks-clearance-sale-25-26-aug-2012-41060/
END:VEVENT
END:VCALENDAR