BEGIN:VCALENDAR
PRODID:-//SINGPromos.com//NONSGML v1.0//EN
VERSION:2.0
CALSCALE:GREGORIAN
METHOD:PUBLISH
X-WR-CALNAME:SINGPromos.com
X-ORIGINAL-URL:https://singpromos.com
X-WR-CALDESC:Events for SINGPromos.com
BEGIN:VEVENT
DTSTART:20120827T000000
DTEND:20120830T235900
DTSTAMP:20260420T061853
CREATED:20120827T141901
LAST-MODIFIED:20120831T130129
UID:41305@https://singpromos.com
SUMMARY:Dim Sum Love (Raffles Place) 55% Off Dim Sum Ala Carte Buffet 27 Aug 2012
DESCRIPTION:Celebrate your love for dim sum with this deal: $17.90 per pax instead of $39.90 for Dim Sum Ala Carte Buffet at Dim Sum Love, Raffles Place (53 Dishes Including Roast Duck & Soya Sauce Chicken) - that's 55% off the usual price! Learn how to get the deal before it ends soon. For more information, visit [ https://singpromos.com/dining-restaurants-food/dim-sum-love-raffles-place-55-off-dim-sum-ala-carte-buffet-27-aug-2012-41305/ ]. 
LOCATION:18 Cross Street, 048423
URL:https://singpromos.com/dining-restaurants-food/dim-sum-love-raffles-place-55-off-dim-sum-ala-carte-buffet-27-aug-2012-41305/
END:VEVENT
END:VCALENDAR