BEGIN:VCALENDAR
PRODID:-//SINGPromos.com//NONSGML v1.0//EN
VERSION:2.0
CALSCALE:GREGORIAN
METHOD:PUBLISH
X-WR-CALNAME:SINGPromos.com
X-ORIGINAL-URL:https://singpromos.com
X-WR-CALDESC:Events for SINGPromos.com
BEGIN:VEVENT
DTSTART:20120827T000000
DTEND:20120925T235900
DTSTAMP:20260420T061841
CREATED:20120827T221224
LAST-MODIFIED:20120827T221224
UID:41309@https://singpromos.com
SUMMARY:Pizza Hut 25% Off Pizzas, Pasta, Baked Rice & More For Standard Chartered Cardmembers 27 Aug - 25 Sep 2012
DESCRIPTION:Standard Chartered cardmembers enjoy the good life! Enjoy 25% off all pizzas, pasta, baked rice and western favourites when you pay with your Standard Chartered credit or debit card till 25 Sep 2012.. For more information, visit [ https://singpromos.com/banks-credit-cards/pizza-hut-25-off-pizzas-pasta-baked-rice-more-for-standard-chartered-cardmembers-27-aug-25-sep-2012-41309/ ]. 
LOCATION:
URL:https://singpromos.com/banks-credit-cards/pizza-hut-25-off-pizzas-pasta-baked-rice-more-for-standard-chartered-cardmembers-27-aug-25-sep-2012-41309/
END:VEVENT
END:VCALENDAR