BEGIN:VCALENDAR
PRODID:-//SINGPromos.com//NONSGML v1.0//EN
VERSION:2.0
CALSCALE:GREGORIAN
METHOD:PUBLISH
X-WR-CALNAME:SINGPromos.com
X-ORIGINAL-URL:https://singpromos.com
X-WR-CALDESC:Events for SINGPromos.com
BEGIN:VEVENT
DTSTART:20120831T000000
DTEND:20120831T235900
DTSTAMP:20260420T045005
CREATED:20120831T143755
LAST-MODIFIED:20120901T144103
UID:41578@https://singpromos.com
SUMMARY:Courts Pre Renovation Megastore Sale Up To 70% off 31 Aug 2012
DESCRIPTION:Courts Megastore is having a pre-renovation sale. Check out their today only offers, promising prices lower than any tradeshow (the COMEX 2012 most likely).. For more information, visit [ https://singpromos.com/department-stores/courts-pre-renovation-megastore-sale-up-to-70-off-31-aug-2012-41578/ ]. 
LOCATION:
URL:https://singpromos.com/department-stores/courts-pre-renovation-megastore-sale-up-to-70-off-31-aug-2012-41578/
END:VEVENT
END:VCALENDAR