BEGIN:VCALENDAR
PRODID:-//SINGPromos.com//NONSGML v1.0//EN
VERSION:2.0
CALSCALE:GREGORIAN
METHOD:PUBLISH
X-WR-CALNAME:SINGPromos.com
X-ORIGINAL-URL:https://singpromos.com
X-WR-CALDESC:Events for SINGPromos.com
BEGIN:VEVENT
DTSTART:20120830T000000
DTEND:20121014T235900
DTSTAMP:20260420T044957
CREATED:20120830T165828
LAST-MODIFIED:20121012T235448
UID:41617@https://singpromos.com
SUMMARY:John Little Real Hot Sale Up To 70% Off 30 Aug 2012
DESCRIPTION:John Little is having a Real Hot Sale promotion with up to 70% off. All shoppers enjoy a flat 20% off on all regular-priced items till 2 September 2012.. For more information, visit [ https://singpromos.com/department-stores/john-little-real-hot-sale-up-to-70-off-30-aug-2012-41617/ ]. 
LOCATION:
URL:https://singpromos.com/department-stores/john-little-real-hot-sale-up-to-70-off-30-aug-2012-41617/
END:VEVENT
END:VCALENDAR