BEGIN:VCALENDAR
PRODID:-//SINGPromos.com//NONSGML v1.0//EN
VERSION:2.0
CALSCALE:GREGORIAN
METHOD:PUBLISH
X-WR-CALNAME:SINGPromos.com
X-ORIGINAL-URL:https://singpromos.com
X-WR-CALDESC:Events for SINGPromos.com
BEGIN:VEVENT
DTSTART:20120901T000000
DTEND:20120901T235900
DTSTAMP:20260420T044959
CREATED:20120830T170649
LAST-MODIFIED:20120901T171111
UID:41621@https://singpromos.com
SUMMARY:Clout Shoppe Branded Handbags Up To 85% Off Sale 1 Sep 2012
DESCRIPTION:Clout Shoppe will be having a luxury branded bags sale on 1 Sep at Mandarin Orchard Hotel, Level 5 Main Tower, Grange Ballroom, 10am to 7pm with up to 85% off. For more information, visit [ https://singpromos.com/handbags/clout-shoppe-branded-handbags-up-to-85-off-sale-1-sep-2012-41621/ ]. 
LOCATION:
URL:https://singpromos.com/handbags/clout-shoppe-branded-handbags-up-to-85-off-sale-1-sep-2012-41621/
END:VEVENT
END:VCALENDAR