BEGIN:VCALENDAR
PRODID:-//SINGPromos.com//NONSGML v1.0//EN
VERSION:2.0
CALSCALE:GREGORIAN
METHOD:PUBLISH
X-WR-CALNAME:SINGPromos.com
X-ORIGINAL-URL:https://singpromos.com
X-WR-CALDESC:Events for SINGPromos.com
BEGIN:VEVENT
DTSTART:20120831T000000
DTEND:20120911T235900
DTSTAMP:20260420T030136
CREATED:20120831T184132
LAST-MODIFIED:20120901T184423
UID:41632@https://singpromos.com
SUMMARY:Takashimaya Happy Holidays Kids Toys & Fashion Promotion 31 Aug - 11 Sep 2012
DESCRIPTION:School's out and the fun is in! Enjoy a great time these Septeber school holidays with great deals from Takashimaya department store till 11 September 2012 at Children's Department, Level 3. For more information, visit [ https://singpromos.com/kids/takashimaya-happy-holidays-kids-toys-fashion-promotion-31-aug-11-sep-2012-41632/ ]. 
LOCATION:
URL:https://singpromos.com/kids/takashimaya-happy-holidays-kids-toys-fashion-promotion-31-aug-11-sep-2012-41632/
END:VEVENT
END:VCALENDAR