BEGIN:VCALENDAR
PRODID:-//SINGPromos.com//NONSGML v1.0//EN
VERSION:2.0
CALSCALE:GREGORIAN
METHOD:PUBLISH
X-WR-CALNAME:SINGPromos.com
X-ORIGINAL-URL:https://singpromos.com
X-WR-CALDESC:Events for SINGPromos.com
BEGIN:VEVENT
DTSTART:20120831T000000
DTEND:20120923T235900
DTSTAMP:20260420T030213
CREATED:20120831T183129
LAST-MODIFIED:20120901T183402
UID:41638@https://singpromos.com
SUMMARY:Marina Square Promotions & Activities 31 Aug - 23 Sep 2012
DESCRIPTION:See Marina Square rev up for non-stop action from 31 August to 23 September 2012. For more information, visit [ https://singpromos.com/shopping-malls/marina-square-promotions-activities-31-aug-23-sep-2012-41638/ ]. 
LOCATION:
URL:https://singpromos.com/shopping-malls/marina-square-promotions-activities-31-aug-23-sep-2012-41638/
END:VEVENT
END:VCALENDAR