BEGIN:VCALENDAR
PRODID:-//SINGPromos.com//NONSGML v1.0//EN
VERSION:2.0
CALSCALE:GREGORIAN
METHOD:PUBLISH
X-WR-CALNAME:SINGPromos.com
X-ORIGINAL-URL:https://singpromos.com
X-WR-CALDESC:Events for SINGPromos.com
BEGIN:VEVENT
DTSTART:20120831T000000
DTEND:20120909T235900
DTSTAMP:20260420T030136
CREATED:20120831T191907
LAST-MODIFIED:20120901T192420
UID:41667@https://singpromos.com
SUMMARY:The Planet Traveller Ultimate Travel Goods Fair Up To 70% Off @ Changi Airport 31 Aug - 9 Sep 2012
DESCRIPTION:The Planet Traveller is having a Ultimate Travel Goods Fair from 31 August to 9 September at Changi Airport Terminal 3, Level 3 Public Area with up to 70% off.. For more information, visit [ https://singpromos.com/vacations/the-planet-traveller-ultimate-travel-goods-fair-up-to-70-off-changi-airport-31-aug-9-sep-2012-41667/ ]. 
LOCATION:
URL:https://singpromos.com/vacations/the-planet-traveller-ultimate-travel-goods-fair-up-to-70-off-changi-airport-31-aug-9-sep-2012-41667/
END:VEVENT
END:VCALENDAR