BEGIN:VCALENDAR
PRODID:-//SINGPromos.com//NONSGML v1.0//EN
VERSION:2.0
CALSCALE:GREGORIAN
METHOD:PUBLISH
X-WR-CALNAME:SINGPromos.com
X-ORIGINAL-URL:https://singpromos.com
X-WR-CALDESC:Events for SINGPromos.com
BEGIN:VEVENT
DTSTART:20120831T000000
DTEND:20120906T235900
DTSTAMP:20260420T030136
CREATED:20120831T192527
LAST-MODIFIED:20121103T035213
UID:41671@https://singpromos.com
SUMMARY:Winter Time 15% Off Storewide Anniversary Sale 31 Aug - 6 Sep 2012
DESCRIPTION:Winter Time is having a 15% off storewide anniversary sale from 31 August to 6 September 2012 at all its outlets. Terms and conditions apply. For more information, visit [ https://singpromos.com/fashion-accessories/winter-time-15-off-storewide-anniversary-sale-31-aug-6-sep-2012-41671/ ]. 
LOCATION:
URL:https://singpromos.com/fashion-accessories/winter-time-15-off-storewide-anniversary-sale-31-aug-6-sep-2012-41671/
END:VEVENT
END:VCALENDAR