BEGIN:VCALENDAR
PRODID:-//SINGPromos.com//NONSGML v1.0//EN
VERSION:2.0
CALSCALE:GREGORIAN
METHOD:PUBLISH
X-WR-CALNAME:SINGPromos.com
X-ORIGINAL-URL:https://singpromos.com
X-WR-CALDESC:Events for SINGPromos.com
BEGIN:VEVENT
DTSTART:20120905T000000
DTEND:20120909T235900
DTSTAMP:20260424T024402
CREATED:20120905T164608
LAST-MODIFIED:20120905T164608
UID:41903@https://singpromos.com
SUMMARY:EpiCentre Apple Notebooks, iPad & iPhone Promotion COMEX 2012 Extended Offers 5 - 9 Sep 2012
DESCRIPTION:EpiCentre has extended their COMEX 2012 promotion for Apple notebooks, tablets and smartphones to 9 September 2012. Enjoy free upgrades and gifts when you purchase selected Apple items. For more information, visit [ https://singpromos.com/computers-pc/epicentre-apple-notebooks-ipad-iphone-promotion-comex-2012-extended-offers-5-9-sep-2012-41903/ ]. 
LOCATION:
URL:https://singpromos.com/computers-pc/epicentre-apple-notebooks-ipad-iphone-promotion-comex-2012-extended-offers-5-9-sep-2012-41903/
END:VEVENT
END:VCALENDAR