BEGIN:VCALENDAR
PRODID:-//SINGPromos.com//NONSGML v1.0//EN
VERSION:2.0
CALSCALE:GREGORIAN
METHOD:PUBLISH
X-WR-CALNAME:SINGPromos.com
X-ORIGINAL-URL:https://singpromos.com
X-WR-CALDESC:Events for SINGPromos.com
BEGIN:VEVENT
DTSTART:20120906T000000
DTEND:20120906T235900
DTSTAMP:20260423T230341
CREATED:20120906T011715
LAST-MODIFIED:20120906T011715
UID:41911@https://singpromos.com
SUMMARY:Love Bonito New Birthday Collection III Launch 6 Sep 2012
DESCRIPTION:Shop away at the latest Birthday Collection III on Love, Bonito, launching on Thursday 6 September at 2pm!. For more information, visit [ https://singpromos.com/fashion-accessories/love-bonito-new-birthday-collection-iii-launch-6-sep-2012-41911/ ]. 
LOCATION:
URL:https://singpromos.com/fashion-accessories/love-bonito-new-birthday-collection-iii-launch-6-sep-2012-41911/
END:VEVENT
END:VCALENDAR