BEGIN:VCALENDAR
PRODID:-//SINGPromos.com//NONSGML v1.0//EN
VERSION:2.0
CALSCALE:GREGORIAN
METHOD:PUBLISH
X-WR-CALNAME:SINGPromos.com
X-ORIGINAL-URL:https://singpromos.com
X-WR-CALDESC:Events for SINGPromos.com
BEGIN:VEVENT
DTSTART:20120906T000000
DTEND:20120912T235900
DTSTAMP:20260422T082116
CREATED:20120906T231748
LAST-MODIFIED:20120906T231749
UID:41920@https://singpromos.com
SUMMARY:Watsons Personal Care, Health, Cosmetics & Beauty Offers 6 - 12 Sep 2012
DESCRIPTION:Watsons continues their Big Brand Sale with up to 30% off selected brands including Ebene, Durex, Revlon, L'Oreal, Kate, Pantene, Scholl, Shaklee and more. Check out purchase with purchase specials and new Angry birds theme products.. For more information, visit [ https://singpromos.com/department-stores/watsons-personal-care-health-cosmetics-beauty-offers-6-12-sep-2012-41920/ ]. 
LOCATION:
URL:https://singpromos.com/department-stores/watsons-personal-care-health-cosmetics-beauty-offers-6-12-sep-2012-41920/
END:VEVENT
END:VCALENDAR