BEGIN:VCALENDAR
PRODID:-//SINGPromos.com//NONSGML v1.0//EN
VERSION:2.0
CALSCALE:GREGORIAN
METHOD:PUBLISH
X-WR-CALNAME:SINGPromos.com
X-ORIGINAL-URL:https://singpromos.com
X-WR-CALDESC:Events for SINGPromos.com
BEGIN:VEVENT
DTSTART:20120906T000000
DTEND:20120912T235900
DTSTAMP:20260420T061852
CREATED:20120906T225831
LAST-MODIFIED:20120906T225852
UID:41935@https://singpromos.com
SUMMARY:Guardian Health, Beauty & Personal Care Offers 6 - 12 Sep 2012
DESCRIPTION:Here's Guardian's latest offers for this week featuring up to 40% off selected health and beauty brands, 45% Off Hypocol, 50% off 2nd pc Baby Seba med, $18 voucher with $100 purchase of Mamil Gold PreciNutri products and more. For more information, visit [ https://singpromos.com/department-stores/guardian-health-beauty-personal-care-offers-6-12-sep-2012-41935/ ]. 
LOCATION:
URL:https://singpromos.com/department-stores/guardian-health-beauty-personal-care-offers-6-12-sep-2012-41935/
END:VEVENT
END:VCALENDAR