BEGIN:VCALENDAR
PRODID:-//SINGPromos.com//NONSGML v1.0//EN
VERSION:2.0
CALSCALE:GREGORIAN
METHOD:PUBLISH
X-WR-CALNAME:SINGPromos.com
X-ORIGINAL-URL:https://singpromos.com
X-WR-CALDESC:Events for SINGPromos.com
BEGIN:VEVENT
DTSTART:20120906T000000
DTEND:20120919T235900
DTSTAMP:20260424T032130
CREATED:20120906T213503
LAST-MODIFIED:20120906T213518
UID:41960@https://singpromos.com
SUMMARY:OG Zojirushi & Tanita Promotion Offers 6 - 19 Sep 2012
DESCRIPTION:Enjoy great savings, easy living and healthy homes with OG's promotion offers on Tanita and Zojirushi products till 19 September 2012. For more information, visit [ https://singpromos.com/kitchenware-cookware/og-zojirushi-tanita-promotion-offers-6-19-sep-2012-41960/ ]. 
LOCATION:
URL:https://singpromos.com/kitchenware-cookware/og-zojirushi-tanita-promotion-offers-6-19-sep-2012-41960/
END:VEVENT
END:VCALENDAR