BEGIN:VCALENDAR
PRODID:-//SINGPromos.com//NONSGML v1.0//EN
VERSION:2.0
CALSCALE:GREGORIAN
METHOD:PUBLISH
X-WR-CALNAME:SINGPromos.com
X-ORIGINAL-URL:https://singpromos.com
X-WR-CALDESC:Events for SINGPromos.com
BEGIN:VEVENT
DTSTART:20120908T000000
DTEND:20120914T235900
DTSTAMP:20260424T023442
CREATED:20120908T145707
LAST-MODIFIED:20120909T141641
UID:42130@https://singpromos.com
SUMMARY:Singtel Smartphones, Tablets, Home/Mobile Broadband & Mio TV Offers 8 - 14 Sep 2012
DESCRIPTION:Here is Singtel's post COMEX 2012 latest mobile phones, tablets and broadband promotions and special offers for this week, presumably valid till 14 Sep 2012. For more information, visit [ https://singpromos.com/telecoms/singtel-smartphones-tablets-homemobile-broadband-mio-tv-offers-8-14-sep-2012-42130/ ]. 
LOCATION:
URL:https://singpromos.com/telecoms/singtel-smartphones-tablets-homemobile-broadband-mio-tv-offers-8-14-sep-2012-42130/
END:VEVENT
END:VCALENDAR