BEGIN:VCALENDAR
PRODID:-//SINGPromos.com//NONSGML v1.0//EN
VERSION:2.0
CALSCALE:GREGORIAN
METHOD:PUBLISH
X-WR-CALNAME:SINGPromos.com
X-ORIGINAL-URL:https://singpromos.com
X-WR-CALDESC:Events for SINGPromos.com
BEGIN:VEVENT
DTSTART:20110218T000000
DTEND:20110218T235900
DTSTAMP:20260420T022827
CREATED:20110218T184945
LAST-MODIFIED:20110218T184945
UID:4220@https://singpromos.com
SUMMARY:Robinsons Mattress, Ladies Lingerie, Kids & Toiletries Offers 18 Feb 2011
DESCRIPTION:Robinsons is having a sale on mattress, ladies lingerie, kids & toiletries. Brands include Clarina, Kishi, Origins, Shiseido, SK-8, Dotza, Sorella, Pierre Cardin, Almer, Triumph and more. Discounts vary on the product type, with up to 50% off or free vouchers with a minimum purchase. For more information, visit [ https://singpromos.com/fashion-accessories/robinsons-mattress-ladies-lingerie-kids-toiletries-offers-18-feb-2011-4220/ ]. 
LOCATION:
URL:https://singpromos.com/fashion-accessories/robinsons-mattress-ladies-lingerie-kids-toiletries-offers-18-feb-2011-4220/
END:VEVENT
END:VCALENDAR